{"text_format":"3","workbook":"xlsx","n_sheets":3,"sheets":["Лист1","Лист2","Лист3"],"not_rendered":{"external_links":3},"read":"whole","date_system":"1900"}

{"sheet":"Лист1","index":0,"n_rows":179,"n_cols":8,"rows_kept":179,"merged":[[0,1,0,5]]}
[null,"Список участников  муниципального этапа олимпиады по предмету \"Русский язык\""]
[{"$f":"[1]свод!A9","v":"№ п/п"},{"$f":"[1]свод!B9","v":"Район"},{"$f":"[1]свод!C9","v":"Полное наименование образовательного учреждения (по уставу)"},{"$f":"[1]свод!D9","v":"Фамилия"},{"$f":"[1]свод!E9","v":"Имя "},{"$f":"[1]свод!F9","v":"Отчество"},{"$f":"[1]свод!G9","v":"Класс"},{"$f":"[1]свод!H9","v":"Количество баллов"}]
[1,{"$f":"[1]свод!B10","v":"Альметьевский"},{"$f":"[1]свод!C10","v":"Гимназия №1"},{"$f":"[1]свод!D10","v":"Бильданова"},{"$f":"[1]свод!E10","v":"Амина"},{"$f":"[1]свод!F10","v":"Рустамовна"},{"$f":"[1]свод!G10","v":5},{"$f":"[1]свод!H10","v":0}]
[2,{"$f":"[1]свод!B11","v":"Альметьевский"},{"$f":"[1]свод!C11","v":"школа 25"},{"$f":"[1]свод!D11","v":"Хусаинова"},{"$f":"[1]свод!E11","v":"Камилла"},{"$f":"[1]свод!F11","v":"Руслановна"},{"$f":"[1]свод!G11","v":5},{"$f":"[1]свод!H11","v":0}]
[3,{"$f":"[1]свод!B12","v":"Альметьевский"},{"$f":"[1]свод!C12","v":"школа25"},{"$f":"[1]свод!D12","v":"Сабитова "},{"$f":"[1]свод!E12","v":"Алсу"},{"$f":"[1]свод!F12","v":"Жалиловна"},{"$f":"[1]свод!G12","v":5},{"$f":"[1]свод!H12","v":0}]
[4,{"$f":"[1]свод!B13","v":"Альметьевский"},{"$f":"[1]свод!C13","v":"Гимназия 1"},{"$f":"[1]свод!D13","v":"Рахимова "},{"$f":"[1]свод!E13","v":"Камила "},{"$f":"[1]свод!F13","v":"Ринатовна"},{"$f":"[1]свод!G13","v":5},{"$f":"[1]свод!H13","v":0}]
[5,{"$f":"[1]свод!B14","v":"Альметьевский"},{"$f":"[1]свод!C14","v":"Лицей 2"},{"$f":"[1]свод!D14","v":"Сафиуллина"},{"$f":"[1]свод!E14","v":"Диана"},{"$f":"[1]свод!F14","v":"Юрасовна"},{"$f":"[1]свод!G14","v":5},{"$f":"[1]свод!H14","v":0}]
[6,{"$f":"[1]свод!B15","v":"Альметьевский"},{"$f":"[1]свод!C15","v":"школа 10"},{"$f":"[1]свод!D15","v":"Надыршина"},{"$f":"[1]свод!E15","v":"Алина "},{"$f":"[1]свод!F15","v":"Руслановна"},{"$f":"[1]свод!G15","v":5},{"$f":"[1]свод!H15","v":0}]
[7,{"$f":"[1]свод!B16","v":"Альметьевский"},{"$f":"[1]свод!C16","v":"МБОУ \"Нижнемактаминская СОШ№2\""},{"$f":"[1]свод!D16","v":"Будилина"},{"$f":"[1]свод!E16","v":"Вероника"},{"$f":"[1]свод!F16","v":"Денисовна"},{"$f":"[1]свод!G16","v":"5А"},{"$f":"[1]свод!H16","v":45}]
[8,{"$f":"[1]свод!B17","v":"Альметьевский"},{"$f":"[1]свод!C17","v":"МБОУ \"Нижнемактаминская СОШ№2\""},{"$f":"[1]свод!D17","v":"Козин "},{"$f":"[1]свод!E17","v":"Виталий"},{"$f":"[1]свод!F17","v":"Алексеевич"},{"$f":"[1]свод!G17","v":"5А"},{"$f":"[1]свод!H17","v":44}]
[9,{"$f":"[1]свод!B18","v":"Альметьевский"},{"$f":"[1]свод!C18","v":"МБОУ \"Нижнемактаминская СОШ№2\""},{"$f":"[1]свод!D18","v":"Пермякова"},{"$f":"[1]свод!E18","v":"Софья"},{"$f":"[1]свод!F18","v":"Евгеньевна"},{"$f":"[1]свод!G18","v":"5А"},{"$f":"[1]свод!H18","v":43}]
[10,{"$f":"[1]свод!B19","v":"Альметьевский"},{"$f":"[1]свод!C19","v":"МБОУ\" Сиренькинская СОШ\""},{"$f":"[1]свод!D19","v":"Каликова "},{"$f":"[1]свод!E19","v":"Алина "},{"$f":"[1]свод!F19","v":"Алексеева"},{"$f":"[1]свод!G19","v":5},{"$f":"[1]свод!H19","v":43}]
[11,{"$f":"[1]свод!B20","v":"Альметьевский"},{"$f":"[1]свод!C20","v":"МБОУ \"Нижнемактаминская СОШ №1\""},{"$f":"[1]свод!D20","v":"Гарипова"},{"$f":"[1]свод!E20","v":"Ясмина"},{"$f":"[1]свод!F20","v":"Рустямовна"},{"$f":"[1]свод!G20","v":5},{"$f":"[1]свод!H20","v":42}]
[12,{"$f":"[1]свод!B21","v":"Альметьевский"},{"$f":"[1]свод!C21","v":"Муниципальное бюджетное общеобразовательное учреждение Средняя общеобразовательная школа № 13"},{"$f":"[1]свод!D21","v":"Комолкин"},{"$f":"[1]свод!E21","v":"Илья"},{"$f":"[1]свод!F21","v":"Александрович"},{"$f":"[1]свод!G21","v":"5б"},{"$f":"[1]свод!H21","v":41}]
[13,{"$f":"[1]свод!B22","v":"Альметьевский"},{"$f":"[1]свод!C22","v":"МБОУ \"Нижнемактаминская СОШ №1\""},{"$f":"[1]свод!D22","v":"Давлетшина"},{"$f":"[1]свод!E22","v":"Ильвина"},{"$f":"[1]свод!F22","v":"Ленаровна"},{"$f":"[1]свод!G22","v":5},{"$f":"[1]свод!H22","v":40}]
[14,{"$f":"[1]свод!B23","v":"Альметьевский"},{"$f":"[1]свод!C23","v":"Муниципальное бюджетное общеобразовательное учреждение Средняя общеобразовательная школа № 13"},{"$f":"[1]свод!D23","v":"Шарова"},{"$f":"[1]свод!E23","v":"Яна"},{"$f":"[1]свод!F23","v":"Ивановна"},{"$f":"[1]свод!G23","v":"5б"},{"$f":"[1]свод!H23","v":40}]
[15,{"$f":"[1]свод!B24","v":"Альметьевский"},{"$f":"[1]свод!C24","v":"Муниципальное бюджетное общеобразовательное учреждение Средняя общеобразовательная школа № 13"},{"$f":"[1]свод!D24","v":"Семенов"},{"$f":"[1]свод!E24","v":"Дмитрий"},{"$f":"[1]свод!F24","v":"Вячеславович"},{"$f":"[1]свод!G24","v":"5а"},{"$f":"[1]свод!H24","v":40}]
[16,{"$f":"[1]свод!B25","v":"Альметьевский"},{"$f":"[1]свод!C25","v":"МБОУ \"СОШ №6\""},{"$f":"[1]свод!D25","v":"Гараева"},{"$f":"[1]свод!E25","v":"Валерия"},{"$f":"[1]свод!F25","v":"Ильнуровна"},{"$f":"[1]свод!G25","v":"5А"},{"$f":"[1]свод!H25","v":39.5}]
[17,{"$f":"[1]свод!B26","v":"Альметьевский"},{"$f":"[1]свод!C26","v":"Муниципальное автономное общеобразовательное учреждение \"Средняя общеобразовательная школа №17\""},{"$f":"[1]свод!D26","v":"Желенкова"},{"$f":"[1]свод!E26","v":"Карина"},{"$f":"[1]свод!F26","v":"Александровна"},{"$f":"[1]свод!G26","v":"5б"},{"$f":"[1]свод!H26","v":38}]
[18,{"$f":"[1]свод!B27","v":"Альметьевский"},{"$f":"[1]свод!C27","v":"Муниципальное автономное общеобразовательное учреждение \"Лицей №2\""},{"$f":"[1]свод!D27","v":"Мухамадеева"},{"$f":"[1]свод!E27","v":"Самира"},{"$f":"[1]свод!F27","v":"Руслановна"},{"$f":"[1]свод!G27","v":"5В"},{"$f":"[1]свод!H27","v":38}]
[19,{"$f":"[1]свод!B28","v":"Альметьевский"},{"$f":"[1]свод!C28","v":"Муниципальное автономное общеобразовательное учреждение - \"Средняя общеобразовательная школа №10 с углубленным изучением отдельных предметов\" города Альметьевска РТ"},{"$f":"[1]свод!D28","v":"Габдрахманова"},{"$f":"[1]свод!E28","v":"Элина"},{"$f":"[1]свод!F28","v":0},{"$f":"[1]свод!G28","v":5},{"$f":"[1]свод!H28","v":38}]
[20,{"$f":"[1]свод!B29","v":"Альметьевский"},{"$f":"[1]свод!C29","v":"МАОУ \"СОШ№7\""},{"$f":"[1]свод!D29","v":"Инюшева"},{"$f":"[1]свод!E29","v":"Дарья"},{"$f":"[1]свод!F29","v":"Николаевна"},{"$f":"[1]свод!G29","v":"5 А"},{"$f":"[1]свод!H29","v":38}]
[21,{"$f":"[1]свод!B30","v":"Альметьевский"},{"$f":"[1]свод!C30","v":"МАОУ \"СОШ№7\""},{"$f":"[1]свод!D30","v":"Фазлыева"},{"$f":"[1]свод!E30","v":"Амира"},{"$f":"[1]свод!F30","v":"Руслановна"},{"$f":"[1]свод!G30","v":"5 Б"},{"$f":"[1]свод!H30","v":37}]
[22,{"$f":"[1]свод!B31","v":"Альметьевский"},{"$f":"[1]свод!C31","v":"МБОУ\" Сиренькинская СОШ\""},{"$f":"[1]свод!D31","v":"Минуллин "},{"$f":"[1]свод!E31","v":"Никита"},{"$f":"[1]свод!F31","v":"Дмитри-евич"},{"$f":"[1]свод!G31","v":5},{"$f":"[1]свод!H31","v":36}]
[23,{"$f":"[1]свод!B32","v":"Альметьевский"},{"$f":"[1]свод!C32","v":"Муниципальное бюджетное общеобразовательное учреждение \"Средняя общеобразовательная школа №1, им. М.К.Тагирова\""},{"$f":"[1]свод!D32","v":"Ившина"},{"$f":"[1]свод!E32","v":"Елена"},{"$f":"[1]свод!F32","v":"Сергеевна"},{"$f":"[1]свод!G32","v":"5б"},{"$f":"[1]свод!H32","v":36}]
[24,{"$f":"[1]свод!B33","v":"Альметьевский"},{"$f":"[1]свод!C33","v":"ЧОУ СШ №23 \"Менеджер\""},{"$f":"[1]свод!D33","v":"Михеев"},{"$f":"[1]свод!E33","v":"Дмитрий"},{"$f":"[1]свод!F33","v":"Евгеньевич"},{"$f":"[1]свод!G33","v":5},{"$f":"[1]свод!H33","v":35}]
[25,{"$f":"[1]свод!B34","v":"Альметьевский"},{"$f":"[1]свод!C34","v":"Муниципальное бюджетное общеобразовательноеучреждение \"Средняя общеобразовательная школа №12\""},{"$f":"[1]свод!D34","v":"Шарафеева"},{"$f":"[1]свод!E34","v":"Эмилия "},{"$f":"[1]свод!F34","v":"Ринатовна"},{"$f":"[1]свод!G34","v":5},{"$f":"[1]свод!H34","v":34}]
[26,{"$f":"[1]свод!B35","v":"Альметьевский"},{"$f":"[1]свод!C35","v":"МБОУ\"Нижнемактаминская СОШ№2\""},{"$f":"[1]свод!D35","v":"Пыхарев"},{"$f":"[1]свод!E35","v":"Илья"},{"$f":"[1]свод!F35","v":"Евгеньевич"},{"$f":"[1]свод!G35","v":"6Б"},{"$f":"[1]свод!H35","v":45}]
[27,{"$f":"[1]свод!B36","v":"Альметьевский"},{"$f":"[1]свод!C36","v":"МБОУ\"Нижнемактаминская СОШ№2\""},{"$f":"[1]свод!D36","v":"Арифуллина"},{"$f":"[1]свод!E36","v":"Миллана"},{"$f":"[1]свод!F36","v":"Эдуардовна"},{"$f":"[1]свод!G36","v":"6А"},{"$f":"[1]свод!H36","v":44}]
[28,{"$f":"[1]свод!B37","v":"Альметьевский"},{"$f":"[1]свод!C37","v":"МБОУ\"Нижнемактаминская СОШ№2\""},{"$f":"[1]свод!D37","v":"Садриева"},{"$f":"[1]свод!E37","v":"Азалия"},{"$f":"[1]свод!F37","v":"Мансуровна"},{"$f":"[1]свод!G37","v":"6Б"},{"$f":"[1]свод!H37","v":43}]
[29,{"$f":"[1]свод!B38","v":"Альметьевский"},{"$f":"[1]свод!C38","v":"Муниципальное бюджетное общеобразовательное учреждение \"Средняя общеобразовательная школа №1, им. М.К.Тагирова\""},{"$f":"[1]свод!D38","v":"Абдулова"},{"$f":"[1]свод!E38","v":"Самира"},{"$f":"[1]свод!F38","v":"Анваровна"},{"$f":"[1]свод!G38","v":"6б"},{"$f":"[1]свод!H38","v":43}]
[30,{"$f":"[1]свод!B39","v":"Альметьевский"},{"$f":"[1]свод!C39","v":"Муниципальное автономное общеобразовательное учреждение - \"Средняя общеобразовательная школа №10 с углубленным изучением отдельных предметов\" города Альметьевска РТ"},{"$f":"[1]свод!D39","v":"Авзалова "},{"$f":"[1]свод!E39","v":"Алина"},{"$f":"[1]свод!F39","v":0},{"$f":"[1]свод!G39","v":6},{"$f":"[1]свод!H39","v":41}]
[31,{"$f":"[1]свод!B40","v":"Альметьевский"},{"$f":"[1]свод!C40","v":"Муниципальное бюджетное общеобразовательное учреждение Средняя общеобразовательная школа № 13"},{"$f":"[1]свод!D40","v":"Гибадуллина"},{"$f":"[1]свод!E40","v":"Карина"},{"$f":"[1]свод!F40","v":"Рамильевна"},{"$f":"[1]свод!G40","v":6},{"$f":"[1]свод!H40","v":41}]
[32,{"$f":"[1]свод!B41","v":"Альметьевский"},{"$f":"[1]свод!C41","v":"МАОУ \"СОШ№7\""},{"$f":"[1]свод!D41","v":"Сагатова"},{"$f":"[1]свод!E41","v":"Аделина"},{"$f":"[1]свод!F41","v":"Рамисовна"},{"$f":"[1]свод!G41","v":"6 Б"},{"$f":"[1]свод!H41","v":40}]
[33,{"$f":"[1]свод!B42","v":"Альметьевский"},{"$f":"[1]свод!C42","v":"муниципальное автономное общеобразовательное учреждение \"Гимназия №5\""},{"$f":"[1]свод!D42","v":"Камалова"},{"$f":"[1]свод!E42","v":"Милана"},{"$f":"[1]свод!F42","v":"Наиловна"},{"$f":"[1]свод!G42","v":"6б"},{"$f":"[1]свод!H42","v":39.5}]
[34,{"$f":"[1]свод!B43","v":"Альметьевский"},{"$f":"[1]свод!C43","v":"МБОУ \"Нижнемактаминская СОШ №1\""},{"$f":"[1]свод!D43","v":"Шарибзянова"},{"$f":"[1]свод!E43","v":"Аделия"},{"$f":"[1]свод!F43","v":"Руслановна"},{"$f":"[1]свод!G43","v":6},{"$f":"[1]свод!H43","v":39}]
[35,{"$f":"[1]свод!B44","v":"Альметьевский"},{"$f":"[1]свод!C44","v":"Муниципальное автономное общеобразовательное учреждение - \"Средняя общеобразовательная школа №10 с углубленным изучением отдельных предметов\" города Альметьевска РТ"},{"$f":"[1]свод!D44","v":"Ботдалова "},{"$f":"[1]свод!E44","v":"Алия"},{"$f":"[1]свод!F44","v":0},{"$f":"[1]свод!G44","v":6},{"$f":"[1]свод!H44","v":39}]
[36,{"$f":"[1]свод!B45","v":"Альметьевский"},{"$f":"[1]свод!C45","v":"МБОУ \"СОШ №25 имени 70-летия нефти Татарстана\""},{"$f":"[1]свод!D45","v":"Хакимов"},{"$f":"[1]свод!E45","v":"Риналь"},{"$f":"[1]свод!F45","v":"Ригелевич"},{"$f":"[1]свод!G45","v":"6 д"},{"$f":"[1]свод!H45","v":39}]
[37,{"$f":"[1]свод!B46","v":"Альметьевский"},{"$f":"[1]свод!C46","v":"МБОУ \"СОШ №25 имени 70-летия нефти Татарстана\""},{"$f":"[1]свод!D46","v":"Гайнутдинов"},{"$f":"[1]свод!E46","v":"Ренальд"},{"$f":"[1]свод!F46","v":"Робертович"},{"$f":"[1]свод!G46","v":"6 д"},{"$f":"[1]свод!H46","v":39}]
[38,{"$f":"[1]свод!B47","v":"Альметьевский"},{"$f":"[1]свод!C47","v":"МБОУ \"СОШ №25 имени 70-летия нефти Татарстана\""},{"$f":"[1]свод!D47","v":"Тютюгина"},{"$f":"[1]свод!E47","v":"Агата"},{"$f":"[1]свод!F47","v":"Владимировна"},{"$f":"[1]свод!G47","v":"6 д"},{"$f":"[1]свод!H47","v":39}]
[39,{"$f":"[1]свод!B48","v":"Альметьевский"},{"$f":"[1]свод!C48","v":"МБОУ \"СОШ №25 имени 70-летия нефти Татарстана\""},{"$f":"[1]свод!D48","v":"Мухамедов"},{"$f":"[1]свод!E48","v":"Тимур"},{"$f":"[1]свод!F48","v":"Ильмирович"},{"$f":"[1]свод!G48","v":"6 г"},{"$f":"[1]свод!H48","v":39}]
[40,{"$f":"[1]свод!B49","v":"Альметьевский"},{"$f":"[1]свод!C49","v":"ЧОУ СШ №23 \"Менеджер\""},{"$f":"[1]свод!D49","v":"Серопян"},{"$f":"[1]свод!E49","v":"Максим"},{"$f":"[1]свод!F49","v":"Кириллович"},{"$f":"[1]свод!G49","v":6},{"$f":"[1]свод!H49","v":38}]
[41,{"$f":"[1]свод!B50","v":"Альметьевский"},{"$f":"[1]свод!C50","v":"МБОУ \"СОШ №4\""},{"$f":"[1]свод!D50","v":"Алиева "},{"$f":"[1]свод!E50","v":" Камилла "},{"$f":"[1]свод!F50","v":"Кулиевна"},{"$f":"[1]свод!G50","v":"6А"},{"$f":"[1]свод!H50","v":37.5}]
[42,{"$f":"[1]свод!B51","v":"Альметьевский"},{"$f":"[1]свод!C51","v":"Муниципальное автономное общеобразовательное учреждение \"Средняя общеобразовательная школа №17\""},{"$f":"[1]свод!D51","v":"Назукина "},{"$f":"[1]свод!E51","v":"Алина"},{"$f":"[1]свод!F51","v":"Андреевна"},{"$f":"[1]свод!G51","v":"6а"},{"$f":"[1]свод!H51","v":37}]
[43,{"$f":"[1]свод!B52","v":"Альметьевский"},{"$f":"[1]свод!C52","v":"Муниципальное бюджетное общеобразовательное учреждение \"Средняя общеобразовательная школа №20\" г. Альметьевска Республики Татарстан"},{"$f":"[1]свод!D52","v":"Кузнецова"},{"$f":"[1]свод!E52","v":"Полина"},{"$f":"[1]свод!F52","v":"Сергеевна"},{"$f":"[1]свод!G52","v":"6 А"},{"$f":"[1]свод!H52","v":37}]
[44,{"$f":"[1]свод!B53","v":"Альметьевский"},{"$f":"[1]свод!C53","v":"Муниципальное автономное общеобразовательное учреждение \"Лицей №2\""},{"$f":"[1]свод!D53","v":"Асреева "},{"$f":"[1]свод!E53","v":"Алиша"},{"$f":"[1]свод!F53","v":"Эмильевна"},{"$f":"[1]свод!G53","v":"6 б"},{"$f":"[1]свод!H53","v":37}]
[45,{"$f":"[1]свод!B54","v":"Альметьевский"},{"$f":"[1]свод!C54","v":"МАОУ \"СОШ№7\""},{"$f":"[1]свод!D54","v":"Шарнонова"},{"$f":"[1]свод!E54","v":"Анастасия"},{"$f":"[1]свод!F54","v":"Александровна"},{"$f":"[1]свод!G54","v":"6Б"},{"$f":"[1]свод!H54","v":36}]
[46,{"$f":"[1]свод!B55","v":"Альметьевский"},{"$f":"[1]свод!C55","v":"Муниципальное бюджетное общеобразовательноеучреждение \"Средняя общеобразовательная школа №12\""},{"$f":"[1]свод!D55","v":"Асылова"},{"$f":"[1]свод!E55","v":"Назиля"},{"$f":"[1]свод!F55","v":"Фаритовна"},{"$f":"[1]свод!G55","v":6},{"$f":"[1]свод!H55","v":36}]
[47,{"$f":"[1]свод!B56","v":"Альметьевский"},{"$f":"[1]свод!C56","v":"МБОУ \"СОШ № 15\""},{"$f":"[1]свод!D56","v":"Александрова "},{"$f":"[1]свод!E56","v":"Олеся"},{"$f":"[1]свод!F56","v":"Николаевна"},{"$f":"[1]свод!G56","v":"6а"},{"$f":"[1]свод!H56","v":35.5}]
[48,{"$f":"[1]свод!B57","v":"Альметьевский"},{"$f":"[1]свод!C57","v":"МБОУ \"СОШ № 15\""},{"$f":"[1]свод!D57","v":"Александрова "},{"$f":"[1]свод!E57","v":"Олеся"},{"$f":"[1]свод!F57","v":"Николаевна"},{"$f":"[1]свод!G57","v":"6а"},{"$f":"[1]свод!H57","v":35.5}]
[49,{"$f":"[1]свод!B58","v":"Альметьевский"},{"$f":"[1]свод!C58","v":"Муниципальное автономное общеобразовательное учреждение \"Лицей №2\""},{"$f":"[1]свод!D58","v":"Мударисов"},{"$f":"[1]свод!E58","v":"Радмир"},{"$f":"[1]свод!F58","v":"Ильмирович"},{"$f":"[1]свод!G58","v":"6 д"},{"$f":"[1]свод!H58","v":35}]
[50,{"$f":"[1]свод!B59","v":"Альметьевский"},{"$f":"[1]свод!C59","v":"Муниципальное бюджетное общеобразовательное учреждение \"Средняя школа №6\""},{"$f":"[1]свод!D59","v":"Аргодяева"},{"$f":"[1]свод!E59","v":"Арина"},{"$f":"[1]свод!F59","v":"Дмитриевна"},{"$f":"[1]свод!G59","v":"6А"},{"$f":"[1]свод!H59","v":35}]
[51,{"$f":"[1]свод!B60","v":"Альметьевский"},{"$f":"[1]свод!C60","v":"Муниципальное автономное общеобразовательное учреждение \"Лицей №2\""},{"$f":"[1]свод!D60","v":"Прокопьева"},{"$f":"[1]свод!E60","v":"Александра"},{"$f":"[1]свод!F60","v":"Дмитриевна"},{"$f":"[1]свод!G60","v":"6В"},{"$f":"[1]свод!H60","v":34.5}]
[52,{"$f":"[1]свод!B61","v":"Альметьевский"},{"$f":"[1]свод!C61","v":"МБОУ \"СОШ №4\""},{"$f":"[1]свод!D61","v":"Хайретдинова"},{"$f":"[1]свод!E61","v":"Аделя"},{"$f":"[1]свод!F61","v":"Фирдависовна"},{"$f":"[1]свод!G61","v":"6А"},{"$f":"[1]свод!H61","v":34}]
[53,{"$f":"[1]свод!B62","v":"Альметьевский"},{"$f":"[1]свод!C62","v":"МАОУ \"СОШ№7\""},{"$f":"[1]свод!D62","v":"Семенов"},{"$f":"[1]свод!E62","v":"Алексей"},{"$f":"[1]свод!F62","v":"Максимович"},{"$f":"[1]свод!G62","v":"6 А"},{"$f":"[1]свод!H62","v":34}]
[54,{"$f":"[1]свод!B63","v":"Альметьевский"},{"$f":"[1]свод!C63","v":"Муниципальное бюджетное общеобразовательное учреждение \"Средняя общеобразовательная школа №1, им. М.К.Тагирова\""},{"$f":"[1]свод!D63","v":"Ягудина"},{"$f":"[1]свод!E63","v":"Зарина"},{"$f":"[1]свод!F63","v":"Рамилевна"},{"$f":"[1]свод!G63","v":"6б"},{"$f":"[1]свод!H63","v":34}]
[55,{"$f":"[1]свод!B64","v":"Альметьевский"},{"$f":"[1]свод!C64","v":"Муниципальное бюджетное общеобразовательное учреждение \"Средняя общеобразовательная школа №1, им. М.К.Тагирова\""},{"$f":"[1]свод!D64","v":"Сагидуллина"},{"$f":"[1]свод!E64","v":"Элина"},{"$f":"[1]свод!F64","v":"Айваровна"},{"$f":"[1]свод!G64","v":"6в"},{"$f":"[1]свод!H64","v":34}]
[56,{"$f":"[1]свод!B65","v":"Альметьевский"},{"$f":"[1]свод!C65","v":"Муниципальное бюджетное общеобразовательное учреждение \"Средняя школа №6\""},{"$f":"[1]свод!D65","v":"Фаттахова"},{"$f":"[1]свод!E65","v":"Рания"},{"$f":"[1]свод!F65","v":"Робертовна"},{"$f":"[1]свод!G65","v":"6А"},{"$f":"[1]свод!H65","v":34}]
[57,{"$f":"[1]свод!B66","v":"Альметьевский"},{"$f":"[1]свод!C66","v":"МБОУ \"СОШ №25 имени 70-летия нефти Татарстана\""},{"$f":"[1]свод!D66","v":"Миннеханова"},{"$f":"[1]свод!E66","v":"Аделя"},{"$f":"[1]свод!F66","v":"Рустамовна"},{"$f":"[1]свод!G66","v":"6 в "},{"$f":"[1]свод!H66","v":34}]
[58,{"$f":"[1]свод!B67","v":"Альметьевский"},{"$f":"[1]свод!C67","v":"МБОО \"СОШ №24\""},{"$f":"[1]свод!D67","v":"Давыдова "},{"$f":"[1]свод!E67","v":"Ева"},{"$f":"[1]свод!F67","v":"Денисовна"},{"$f":"[1]свод!G67","v":"6а"},{"$f":"[1]свод!H67","v":34}]
[59,{"$f":"[1]свод!B68","v":"Альметьевский"},{"$f":"[1]свод!C68","v":"МБОО \"СОШ №24\""},{"$f":"[1]свод!D68","v":"Давлетшина"},{"$f":"[1]свод!E68","v":"Алина"},{"$f":"[1]свод!F68","v":"Русланова"},{"$f":"[1]свод!G68","v":"6а"},{"$f":"[1]свод!H68","v":34}]
[60,{"$f":"[1]свод!B69","v":"Альметьевский"},{"$f":"[1]свод!C69","v":"Лицей2"},{"$f":"[1]свод!D69","v":"Шайдуллина"},{"$f":"[1]свод!E69","v":"Алина"},{"$f":"[1]свод!F69","v":"Рустемовна"},{"$f":"[1]свод!G69","v":6},{"$f":"[1]свод!H69","v":0}]
[61,{"$f":"[1]свод!B70","v":"Альметьевский"},{"$f":"[1]свод!C70","v":"Лицей2"},{"$f":"[1]свод!D70","v":"Закирова"},{"$f":"[1]свод!E70","v":"Фарида"},{"$f":"[1]свод!F70","v":"Ильдаровна"},{"$f":"[1]свод!G70","v":7},{"$f":"[1]свод!H70","v":0}]
[62,{"$f":"[1]свод!B71","v":"Альметьевский"},{"$f":"[1]свод!C71","v":"школа4"},{"$f":"[1]свод!D71","v":"Ахметова"},{"$f":"[1]свод!E71","v":"Алия "},{"$f":"[1]свод!F71","v":"Ильфатовна "},{"$f":"[1]свод!G71","v":7},{"$f":"[1]свод!H71","v":0}]
[63,{"$f":"[1]свод!B72","v":"Альметьевский"},{"$f":"[1]свод!C72","v":"МБОУ\"Нижнемактаминская СОШ№2\""},{"$f":"[1]свод!D72","v":"Айткулова"},{"$f":"[1]свод!E72","v":"Нигора"},{"$f":"[1]свод!F72","v":"Баходыровна"},{"$f":"[1]свод!G72","v":"7Б"},{"$f":"[1]свод!H72","v":47}]
[64,{"$f":"[1]свод!B73","v":"Альметьевский"},{"$f":"[1]свод!C73","v":"МБОУ\"Нижнемактаминская СОШ№2\""},{"$f":"[1]свод!D73","v":"Каримова"},{"$f":"[1]свод!E73","v":"Сабина"},{"$f":"[1]свод!F73","v":"Равилевна"},{"$f":"[1]свод!G73","v":"7Б"},{"$f":"[1]свод!H73","v":46}]
[65,{"$f":"[1]свод!B74","v":"Альметьевский"},{"$f":"[1]свод!C74","v":"МБОУ\"Нижнемактаминская СОШ№2\""},{"$f":"[1]свод!D74","v":"Халиков"},{"$f":"[1]свод!E74","v":"Бакир"},{"$f":"[1]свод!F74","v":"Рустемович"},{"$f":"[1]свод!G74","v":"7Б"},{"$f":"[1]свод!H74","v":45}]
[66,{"$f":"[1]свод!B75","v":"Альметьевский"},{"$f":"[1]свод!C75","v":"МБОУ \"СОШ №25 имени 70-летия нефти Татарстана"},{"$f":"[1]свод!D75","v":"Хафизов"},{"$f":"[1]свод!E75","v":"Данияр"},{"$f":"[1]свод!F75","v":"Маратович"},{"$f":"[1]свод!G75","v":"7 д"},{"$f":"[1]свод!H75","v":40}]
[67,{"$f":"[1]свод!B76","v":"Альметьевский"},{"$f":"[1]свод!C76","v":"Муниципальное автономное общеобразовательное учреждение \"Средняя общеобразовательная школа №17\""},{"$f":"[1]свод!D76","v":"Дмитриев"},{"$f":"[1]свод!E76","v":"Илья"},{"$f":"[1]свод!F76","v":"Дмитриевич"},{"$f":"[1]свод!G76","v":"7б"},{"$f":"[1]свод!H76","v":39.5}]
[68,{"$f":"[1]свод!B77","v":"Альметьевский"},{"$f":"[1]свод!C77","v":"Муниципальное бюджетное общеобразовательное учреждение Средняя общеобразовательная школа № 13"},{"$f":"[1]свод!D77","v":"Волков"},{"$f":"[1]свод!E77","v":"Родион"},{"$f":"[1]свод!F77","v":"Русланович"},{"$f":"[1]свод!G77","v":7},{"$f":"[1]свод!H77","v":39}]
[69,{"$f":"[1]свод!B78","v":"Альметьевский"},{"$f":"[1]свод!C78","v":"МБОУ \"СОШ №4\""},{"$f":"[1]свод!D78","v":"Костусенко"},{"$f":"[1]свод!E78","v":"Полина"},{"$f":"[1]свод!F78","v":"Артемьевна"},{"$f":"[1]свод!G78","v":"7А"},{"$f":"[1]свод!H78","v":38.5}]
[70,{"$f":"[1]свод!B79","v":"Альметьевский"},{"$f":"[1]свод!C79","v":"МБОУ \"СОШ №4\""},{"$f":"[1]свод!D79","v":"Хуббулина"},{"$f":"[1]свод!E79","v":"Алсу"},{"$f":"[1]свод!F79","v":"Фаргатовна"},{"$f":"[1]свод!G79","v":"7А"},{"$f":"[1]свод!H79","v":38}]
[71,{"$f":"[1]свод!B80","v":"Альметьевский"},{"$f":"[1]свод!C80","v":"Муниципальное автономное общеобразовательное учреждение \"Средняя общеобразовательная школа №16\" г.Альметьевска РТ"},{"$f":"[1]свод!D80","v":" Вольнова"},{"$f":"[1]свод!E80","v":"Дарина"},{"$f":"[1]свод!F80","v":"Андреевна"},{"$f":"[1]свод!G80","v":"7Б"},{"$f":"[1]свод!H80","v":38}]
[72,{"$f":"[1]свод!B81","v":"Альметьевский"},{"$f":"[1]свод!C81","v":"Муниципальное автономное общеобразовательное учреждение \"Лицей №2\""},{"$f":"[1]свод!D81","v":"Котина"},{"$f":"[1]свод!E81","v":"Елизавета"},{"$f":"[1]свод!F81","v":"Сергеевна"},{"$f":"[1]свод!G81","v":"7А"},{"$f":"[1]свод!H81","v":37}]
[73,{"$f":"[1]свод!B82","v":"Альметьевский"},{"$f":"[1]свод!C82","v":"Муниципальное автономное общеобразовательное учреждение - \"Средняя общеобразовательная школа №10 с углубленным изучением отдельных предметов\" города Альметьевска РТ"},{"$f":"[1]свод!D82","v":"Галиева "},{"$f":"[1]свод!E82","v":"Алина"},{"$f":"[1]свод!F82","v":0},{"$f":"[1]свод!G82","v":7},{"$f":"[1]свод!H82","v":37}]
[74,{"$f":"[1]свод!B83","v":"Альметьевский"},{"$f":"[1]свод!C83","v":"МБОУ\" Сиренькинская СОШ\""},{"$f":"[1]свод!D83","v":"Ахметгалеева "},{"$f":"[1]свод!E83","v":"Рената"},{"$f":"[1]свод!F83","v":"Ренатовна"},{"$f":"[1]свод!G83","v":7},{"$f":"[1]свод!H83","v":37}]
[75,{"$f":"[1]свод!B84","v":"Альметьевский"},{"$f":"[1]свод!C84","v":"Муниципальное автономное общеобразовательное учреждение \"Средняя общеобразовательная школа №16\" г.Альметьевска РТ"},{"$f":"[1]свод!D84","v":"Бахтиярова "},{"$f":"[1]свод!E84","v":"Дания"},{"$f":"[1]свод!F84","v":"Наилевна"},{"$f":"[1]свод!G84","v":"7Б"},{"$f":"[1]свод!H84","v":37}]
[76,{"$f":"[1]свод!B85","v":"Альметьевский"},{"$f":"[1]свод!C85","v":"МБОУ \"СОШ №4\""},{"$f":"[1]свод!D85","v":"Латыпова"},{"$f":"[1]свод!E85","v":"Алия"},{"$f":"[1]свод!F85","v":"Ильясовна"},{"$f":"[1]свод!G85","v":"7А"},{"$f":"[1]свод!H85","v":36.5}]
[77,{"$f":"[1]свод!B86","v":"Альметьевский"},{"$f":"[1]свод!C86","v":"Муниципальное бюджетное общеобразовательное учреждение Средняя общеобразовательная школа № 13"},{"$f":"[1]свод!D86","v":"Фархутдинов"},{"$f":"[1]свод!E86","v":"Марат"},{"$f":"[1]свод!F86","v":"Рустемович"},{"$f":"[1]свод!G86","v":7},{"$f":"[1]свод!H86","v":36}]
[78,{"$f":"[1]свод!B87","v":"Альметьевский"},{"$f":"[1]свод!C87","v":"Муниципальное бюджетное общеобразовательное учреждение \"Кичуйская средняя общеобразовательная школа\""},{"$f":"[1]свод!D87","v":"Хафизова"},{"$f":"[1]свод!E87","v":"Мадина"},{"$f":"[1]свод!F87","v":"Нафисовна"},{"$f":"[1]свод!G87","v":7},{"$f":"[1]свод!H87","v":35}]
[79,{"$f":"[1]свод!B88","v":"Альметьевский"},{"$f":"[1]свод!C88","v":"МБОУ \"СОШ №4\""},{"$f":"[1]свод!D88","v":"Белова"},{"$f":"[1]свод!E88","v":"Камила"},{"$f":"[1]свод!F88","v":"Денисовна"},{"$f":"[1]свод!G88","v":"7А"},{"$f":"[1]свод!H88","v":35}]
[80,{"$f":"[1]свод!B89","v":"Альметьевский"},{"$f":"[1]свод!C89","v":"Муниципальное автономное общеобразовательное учреждение - \"Средняя общеобразовательная школа №10 с углубленным изучением отдельных предметов\" города Альметьевска РТ"},{"$f":"[1]свод!D89","v":"Прохорова "},{"$f":"[1]свод!E89","v":"София"},{"$f":"[1]свод!F89","v":0},{"$f":"[1]свод!G89","v":7},{"$f":"[1]свод!H89","v":35}]
[81,{"$f":"[1]свод!B90","v":"Альметьевский"},{"$f":"[1]свод!C90","v":"МБОУ \" Сиренькинская CОШ\""},{"$f":"[1]свод!D90","v":"Иванова"},{"$f":"[1]свод!E90","v":"Диана"},{"$f":"[1]свод!F90","v":"Петровна"},{"$f":"[1]свод!G90","v":7},{"$f":"[1]свод!H90","v":35}]
[82,{"$f":"[1]свод!B91","v":"Альметьевский"},{"$f":"[1]свод!C91","v":"Муниципальное автономное общеобразовательное учреждение \"Средняя общеобразовательная школа №16\" г.Альметьевска РТ"},{"$f":"[1]свод!D91","v":"Смоленкова "},{"$f":"[1]свод!E91","v":" Регина "},{"$f":"[1]свод!F91","v":" Михайловна"},{"$f":"[1]свод!G91","v":"7д"},{"$f":"[1]свод!H91","v":35}]
[83,{"$f":"[1]свод!B92","v":"Альметьевский"},{"$f":"[1]свод!C92","v":"Муниципальное бюджетное общеобразовательное учреждение \"Кичуйская средняя общеобразовательная школа\""},{"$f":"[1]свод!D92","v":"Нуретдинова"},{"$f":"[1]свод!E92","v":"Ландыш"},{"$f":"[1]свод!F92","v":"Кавсяровна"},{"$f":"[1]свод!G92","v":7},{"$f":"[1]свод!H92","v":34}]
[84,{"$f":"[1]свод!B93","v":"Альметьевский"},{"$f":"[1]свод!C93","v":"Муниципальное бюджетное общеобразовательное учреждение \"Лесно-Калейкинская средняя общеобразовательная школа РТ"},{"$f":"[1]свод!D93","v":"Иванов"},{"$f":"[1]свод!E93","v":"Владислав"},{"$f":"[1]свод!F93","v":"Олегович"},{"$f":"[1]свод!G93","v":7},{"$f":"[1]свод!H93","v":34}]
[85,{"$f":"[1]свод!B94","v":"Альметьевский"},{"$f":"[1]свод!C94","v":"МБОУ \"СОШ №4\""},{"$f":"[1]свод!D94","v":"Хамраева"},{"$f":"[1]свод!E94","v":"Фарида"},{"$f":"[1]свод!F94","v":"Раимовна"},{"$f":"[1]свод!G94","v":"7б"},{"$f":"[1]свод!H94","v":34}]
[86,{"$f":"[1]свод!B95","v":"Альметьевский"},{"$f":"[1]свод!C95","v":"МАОУ \"СОШ№7\""},{"$f":"[1]свод!D95","v":"Подовалова"},{"$f":"[1]свод!E95","v":"Софья"},{"$f":"[1]свод!F95","v":"Андреевна"},{"$f":"[1]свод!G95","v":"7 А"},{"$f":"[1]свод!H95","v":34}]
[87,{"$f":"[1]свод!B96","v":"Альметьевский"},{"$f":"[1]свод!C96","v":"МБОУ\" Нижнемактаминская СОШ№2\""},{"$f":"[1]свод!D96","v":"Ломакина"},{"$f":"[1]свод!E96","v":"Екатерина"},{"$f":"[1]свод!F96","v":"Владимировна"},{"$f":"[1]свод!G96","v":"8Б"},{"$f":"[1]свод!H96","v":47}]
[88,{"$f":"[1]свод!B97","v":"Альметьевский"},{"$f":"[1]свод!C97","v":"МБОУ\" Нижнемактаминская СОШ№2\""},{"$f":"[1]свод!D97","v":"Ганиев"},{"$f":"[1]свод!E97","v":"Риназ"},{"$f":"[1]свод!F97","v":"Рафаэлевич"},{"$f":"[1]свод!G97","v":"8А"},{"$f":"[1]свод!H97","v":46}]
[89,{"$f":"[1]свод!B98","v":"Альметьевский"},{"$f":"[1]свод!C98","v":"МБОУ\" Нижнемактаминская СОШ№2\""},{"$f":"[1]свод!D98","v":"Зарипова"},{"$f":"[1]свод!E98","v":"Эльвина"},{"$f":"[1]свод!F98","v":"Рустамовна"},{"$f":"[1]свод!G98","v":"8Б"},{"$f":"[1]свод!H98","v":45}]
[90,{"$f":"[1]свод!B99","v":"Альметьевский"},{"$f":"[1]свод!C99","v":"Муниципальное автономное общеобразовательное учреждение \"Средняя общеобразовательная школа №16\" г.Альметьевска, РТ"},{"$f":"[1]свод!D99","v":"Мухамадиева "},{"$f":"[1]свод!E99","v":"Наиля"},{"$f":"[1]свод!F99","v":"Айратовна"},{"$f":"[1]свод!G99","v":"8Б"},{"$f":"[1]свод!H99","v":43}]
[91,{"$f":"[1]свод!B100","v":"Альметьевский"},{"$f":"[1]свод!C100","v":"Муниципальное автономное общеобразовательное учреждение - \"Средняя общеобразовательная школа №10 с углубленным изучением отдельных предметов\" города Альметьевска РТ"},{"$f":"[1]свод!D100","v":"Вершинина "},{"$f":"[1]свод!E100","v":"Анастасия"},{"$f":"[1]свод!F100","v":0},{"$f":"[1]свод!G100","v":8},{"$f":"[1]свод!H100","v":40.5}]
[92,{"$f":"[1]свод!B101","v":"Альметьевский"},{"$f":"[1]свод!C101","v":"Муниципальное автономное общеобразовательное учреждение \"Лицей №2\""},{"$f":"[1]свод!D101","v":"Мазитова"},{"$f":"[1]свод!E101","v":"Эвелина"},{"$f":"[1]свод!F101","v":"Марселевна"},{"$f":"[1]свод!G101","v":"8В"},{"$f":"[1]свод!H101","v":40}]
[93,{"$f":"[1]свод!B102","v":"Альметьевский"},{"$f":"[1]свод!C102","v":"Муниципальное бюджетное общеобразовательное учреждение Средняя общеобразовательная школа № 13"},{"$f":"[1]свод!D102","v":"Рахматшоев"},{"$f":"[1]свод!E102","v":"Тимур"},{"$f":"[1]свод!F102","v":"Русланович"},{"$f":"[1]свод!G102","v":7},{"$f":"[1]свод!H102","v":40}]
[94,{"$f":"[1]свод!B103","v":"Альметьевский"},{"$f":"[1]свод!C103","v":"ЧОУ СШ №23 \"Менеджер\""},{"$f":"[1]свод!D103","v":"Иктисанов"},{"$f":"[1]свод!E103","v":"Богдан"},{"$f":"[1]свод!F103","v":"Анатольевич"},{"$f":"[1]свод!G103","v":"8а"},{"$f":"[1]свод!H103","v":39}]
[95,{"$f":"[1]свод!B104","v":"Альметьевский"},{"$f":"[1]свод!C104","v":"Муниципальное бюджетное общеобразовательное учреждение Средняя общеобразовательная школа № 13"},{"$f":"[1]свод!D104","v":"Стрелкова"},{"$f":"[1]свод!E104","v":"Варвара"},{"$f":"[1]свод!F104","v":"Витальевна"},{"$f":"[1]свод!G104","v":7},{"$f":"[1]свод!H104","v":39}]
[96,{"$f":"[1]свод!B105","v":"Альметьевский"},{"$f":"[1]свод!C105","v":"ЧОУ СШ №23 \"Менеджер\""},{"$f":"[1]свод!D105","v":"Шакиров"},{"$f":"[1]свод!E105","v":"Карим"},{"$f":"[1]свод!F105","v":"Ильнурович"},{"$f":"[1]свод!G105","v":"8б"},{"$f":"[1]свод!H105","v":38}]
[97,{"$f":"[1]свод!B106","v":"Альметьевский"},{"$f":"[1]свод!C106","v":"МБОУ \"СОШ №4\""},{"$f":"[1]свод!D106","v":"Сагидуллина"},{"$f":"[1]свод!E106","v":"Лиана"},{"$f":"[1]свод!F106","v":"Руслановна"},{"$f":"[1]свод!G106","v":"8А"},{"$f":"[1]свод!H106","v":38}]
[98,{"$f":"[1]свод!B107","v":"Альметьевский"},{"$f":"[1]свод!C107","v":"МАОУ \"СОШ№7\""},{"$f":"[1]свод!D107","v":"Аминова"},{"$f":"[1]свод!E107","v":"Аделина"},{"$f":"[1]свод!F107","v":"Рашидовна"},{"$f":"[1]свод!G107","v":"8 А"},{"$f":"[1]свод!H107","v":38}]
[99,{"$f":"[1]свод!B108","v":"Альметьевский"},{"$f":"[1]свод!C108","v":"Муниципальное автономное общеобразовательное учреждение - \"Средняя общеобразовательная школа №10 с углубленным изучением отдельных предметов\" города Альметьевска РТ"},{"$f":"[1]свод!D108","v":"Горланов "},{"$f":"[1]свод!E108","v":"Георгий"},{"$f":"[1]свод!F108","v":0},{"$f":"[1]свод!G108","v":8},{"$f":"[1]свод!H108","v":37}]
[100,{"$f":"[1]свод!B109","v":"Альметьевский"},{"$f":"[1]свод!C109","v":"Муниципальное автономное общеобразовательное учреждение \"Средняя общеобразовательная школа №16\" г.Альметьевска, РТ"},{"$f":"[1]свод!D109","v":"Валеева"},{"$f":"[1]свод!E109","v":"Рената"},{"$f":"[1]свод!F109","v":"Радиковна"},{"$f":"[1]свод!G109","v":"8Б"},{"$f":"[1]свод!H109","v":37}]
[101,{"$f":"[1]свод!B110","v":"Альметьевский"},{"$f":"[1]свод!C110","v":"Муниципальное бюджетное общеобразовательное учреждение \"Средняя школа №6\""},{"$f":"[1]свод!D110","v":"Валиев"},{"$f":"[1]свод!E110","v":"Камиль"},{"$f":"[1]свод!F110","v":"Ренатович"},{"$f":"[1]свод!G110","v":"8Б"},{"$f":"[1]свод!H110","v":37}]
[102,{"$f":"[1]свод!B111","v":"Альметьевский"},{"$f":"[1]свод!C111","v":"муниципальное автономное общеобразовательное учреждение \"Гимназия №5\""},{"$f":"[1]свод!D111","v":"Мустафина"},{"$f":"[1]свод!E111","v":"Идель"},{"$f":"[1]свод!F111","v":"Ильдаровна"},{"$f":"[1]свод!G111","v":"8А"},{"$f":"[1]свод!H111","v":34}]
[103,{"$f":"[1]свод!B112","v":"Альметьевский"},{"$f":"[1]свод!C112","v":"МБОУ \"СОШ №4\""},{"$f":"[1]свод!D112","v":"Сафиуллин"},{"$f":"[1]свод!E112","v":"Вадим"},{"$f":"[1]свод!F112","v":"Атласович"},{"$f":"[1]свод!G112","v":"8А"},{"$f":"[1]свод!H112","v":34}]
[104,{"$f":"[1]свод!B113","v":"Альметьевский"},{"$f":"[1]свод!C113","v":"Менеджер"},{"$f":"[1]свод!D113","v":"Шакиров"},{"$f":"[1]свод!E113","v":"Карим"},{"$f":"[1]свод!F113","v":"Ильнурович"},{"$f":"[1]свод!G113","v":8},{"$f":"[1]свод!H113","v":0}]
[105,{"$f":"[1]свод!B114","v":"Альметьевский"},{"$f":"[1]свод!C114","v":"школа11"},{"$f":"[1]свод!D114","v":"Низамутдинова"},{"$f":"[1]свод!E114","v":"Айгуль"},{"$f":"[1]свод!F114","v":"Рустемовна"},{"$f":"[1]свод!G114","v":8},{"$f":"[1]свод!H114","v":0}]
[106,{"$f":"[1]свод!B115","v":"Альметьевский"},{"$f":"[1]свод!C115","v":"лицей2"},{"$f":"[1]свод!D115","v":"мартынова"},{"$f":"[1]свод!E115","v":"юлия"},{"$f":"[1]свод!F115","v":"андреевна"},{"$f":"[1]свод!G115","v":9},{"$f":"[1]свод!H115","v":0}]
[107,{"$f":"[1]свод!B116","v":"Альметьевский"},{"$f":"[1]свод!C116","v":"МБОУ\"Нижнемактаминская СОШ№2\""},{"$f":"[1]свод!D116","v":"Киселёва"},{"$f":"[1]свод!E116","v":"Эвелина"},{"$f":"[1]свод!F116","v":"Денисовна"},{"$f":"[1]свод!G116","v":"9Б"},{"$f":"[1]свод!H116","v":52}]
[108,{"$f":"[1]свод!B117","v":"Альметьевский"},{"$f":"[1]свод!C117","v":"МБОУ\"Нижнемактаминская СОШ№2\""},{"$f":"[1]свод!D117","v":"Зиатдинов"},{"$f":"[1]свод!E117","v":"Айнур"},{"$f":"[1]свод!F117","v":"Ильнурович"},{"$f":"[1]свод!G117","v":"9А"},{"$f":"[1]свод!H117","v":50}]
[109,{"$f":"[1]свод!B118","v":"Альметьевский"},{"$f":"[1]свод!C118","v":"Муниципальное бюджетное общеобразовательное учреждение Средняя общеобразовательная школа № 13"},{"$f":"[1]свод!D118","v":"Нигматуллин"},{"$f":"[1]свод!E118","v":0},{"$f":"[1]свод!F118","v":0},{"$f":"[1]свод!G118","v":"9а"},{"$f":"[1]свод!H118","v":50}]
[110,{"$f":"[1]свод!B119","v":"Альметьевский"},{"$f":"[1]свод!C119","v":"Муниципальное бюджетное общеобразовательное учреждение Средняя общеобразовательная школа № 13"},{"$f":"[1]свод!D119","v":"Корешков"},{"$f":"[1]свод!E119","v":"Д"},{"$f":"[1]свод!F119","v":0},{"$f":"[1]свод!G119","v":"9а"},{"$f":"[1]свод!H119","v":50}]
[111,{"$f":"[1]свод!B120","v":"Альметьевский"},{"$f":"[1]свод!C120","v":"Муниципальное бюджетное общеобразовательное учреждение Средняя общеобразовательная школа № 13"},{"$f":"[1]свод!D120","v":"Шарафутдинова"},{"$f":"[1]свод!E120","v":0},{"$f":"[1]свод!F120","v":0},{"$f":"[1]свод!G120","v":"9а"},{"$f":"[1]свод!H120","v":49}]
[112,{"$f":"[1]свод!B121","v":"Альметьевский"},{"$f":"[1]свод!C121","v":"Муниципальное бюджетное общеобразовательное учреждение Средняя общеобразовательная школа № 13"},{"$f":"[1]свод!D121","v":"Юсупова"},{"$f":"[1]свод!E121","v":"Регина"},{"$f":"[1]свод!F121","v":0},{"$f":"[1]свод!G121","v":"9а"},{"$f":"[1]свод!H121","v":49}]
[113,{"$f":"[1]свод!B122","v":"Альметьевский"},{"$f":"[1]свод!C122","v":"МАОУ \"СОШ№7\""},{"$f":"[1]свод!D122","v":"Шакирова"},{"$f":"[1]свод!E122","v":"Аделина"},{"$f":"[1]свод!F122","v":"Рустемовна"},{"$f":"[1]свод!G122","v":"9 Г"},{"$f":"[1]свод!H122","v":48.5}]
[114,{"$f":"[1]свод!B123","v":"Альметьевский"},{"$f":"[1]свод!C123","v":"Муниципальное автономное общеобразовательное учреждение \"Лицей №2\""},{"$f":"[1]свод!D123","v":"Груздева"},{"$f":"[1]свод!E123","v":"Арина"},{"$f":"[1]свод!F123","v":"Андреевна"},{"$f":"[1]свод!G123","v":"9Б"},{"$f":"[1]свод!H123","v":46}]
[115,{"$f":"[1]свод!B124","v":"Альметьевский"},{"$f":"[1]свод!C124","v":"Муниципальное автономное общеобразовательное учреждение - \"Средняя общеобразовательная школа №10 с углубленным изучением отдельных предметов\" города Альметьевска РТ"},{"$f":"[1]свод!D124","v":"Рахматуллина"},{"$f":"[1]свод!E124","v":"Карина"},{"$f":"[1]свод!F124","v":0},{"$f":"[1]свод!G124","v":9},{"$f":"[1]свод!H124","v":46}]
[116,{"$f":"[1]свод!B125","v":"Альметьевский"},{"$f":"[1]свод!C125","v":"МАОУ \"СОШ№7\""},{"$f":"[1]свод!D125","v":"Трушева"},{"$f":"[1]свод!E125","v":"Ксения"},{"$f":"[1]свод!F125","v":"игоревна"},{"$f":"[1]свод!G125","v":"9 В"},{"$f":"[1]свод!H125","v":46}]
[117,{"$f":"[1]свод!B126","v":"Альметьевский"},{"$f":"[1]свод!C126","v":"МБОУ \"СОШ №6\""},{"$f":"[1]свод!D126","v":"Галимова"},{"$f":"[1]свод!E126","v":"Лейла"},{"$f":"[1]свод!F126","v":"Рустемовна"},{"$f":"[1]свод!G126","v":"9Б"},{"$f":"[1]свод!H126","v":45.5}]
[118,{"$f":"[1]свод!B127","v":"Альметьевский"},{"$f":"[1]свод!C127","v":"Муниципальное автономное общеобразовательное учреждение \"Средняя общеобразовательная школа №17\""},{"$f":"[1]свод!D127","v":"Дубровина"},{"$f":"[1]свод!E127","v":"Кристина"},{"$f":"[1]свод!F127","v":"Вячеславовна"},{"$f":"[1]свод!G127","v":"9б"},{"$f":"[1]свод!H127","v":45}]
[119,{"$f":"[1]свод!B128","v":"Альметьевский"},{"$f":"[1]свод!C128","v":"МБОУ\" Сиренькинская СОШ\""},{"$f":"[1]свод!D128","v":"Тихонова"},{"$f":"[1]свод!E128","v":"Юлия"},{"$f":"[1]свод!F128","v":"Петровна"},{"$f":"[1]свод!G128","v":9},{"$f":"[1]свод!H128","v":45}]
[120,{"$f":"[1]свод!B129","v":"Альметьевский"},{"$f":"[1]свод!C129","v":"МБОУ \"СОШ №25 имени 70-летия нефти Татарстана"},{"$f":"[1]свод!D129","v":"Фомичева"},{"$f":"[1]свод!E129","v":"Дарья"},{"$f":"[1]свод!F129","v":"Александровна"},{"$f":"[1]свод!G129","v":"9 а"},{"$f":"[1]свод!H129","v":45}]
[121,{"$f":"[1]свод!B130","v":"Альметьевский"},{"$f":"[1]свод!C130","v":"Муниципальное автономное общеобразовательное учреждение - \"Средняя общеобразовательная школа №10 с углубленным изучением отдельных предметов\" города Альметьевска РТ"},{"$f":"[1]свод!D130","v":"Жирнова"},{"$f":"[1]свод!E130","v":"Елизавета"},{"$f":"[1]свод!F130","v":0},{"$f":"[1]свод!G130","v":9},{"$f":"[1]свод!H130","v":44}]
[122,{"$f":"[1]свод!B131","v":"Альметьевский"},{"$f":"[1]свод!C131","v":"МАОУ \"СОШ№7\""},{"$f":"[1]свод!D131","v":"Файзуллина"},{"$f":"[1]свод!E131","v":"Зиля"},{"$f":"[1]свод!F131","v":"Самигулловна"},{"$f":"[1]свод!G131","v":"9 Г"},{"$f":"[1]свод!H131","v":44}]
[123,{"$f":"[1]свод!B132","v":"Альметьевский"},{"$f":"[1]свод!C132","v":"МАОУ \"СОШ№7\""},{"$f":"[1]свод!D132","v":"Салимова"},{"$f":"[1]свод!E132","v":"Диана"},{"$f":"[1]свод!F132","v":"Халиловна"},{"$f":"[1]свод!G132","v":"9 А"},{"$f":"[1]свод!H132","v":44}]
[124,{"$f":"[1]свод!B133","v":"Альметьевский"},{"$f":"[1]свод!C133","v":"МБОУ \"СОШ №25 имени 70-летия нефти Татарстана"},{"$f":"[1]свод!D133","v":"Хабибуллина"},{"$f":"[1]свод!E133","v":"Эльвина"},{"$f":"[1]свод!F133","v":"Равшановна"},{"$f":"[1]свод!G133","v":"9 а"},{"$f":"[1]свод!H133","v":44}]
[125,{"$f":"[1]свод!B134","v":"Альметьевский"},{"$f":"[1]свод!C134","v":"Муниципальное автономное общеобразовательное учреждение \"Лицей №2\""},{"$f":"[1]свод!D134","v":"Шафигуллина"},{"$f":"[1]свод!E134","v":"Алина"},{"$f":"[1]свод!F134","v":"Наилевна"},{"$f":"[1]свод!G134","v":"9Б"},{"$f":"[1]свод!H134","v":43.5}]
[126,{"$f":"[1]свод!B135","v":"Альметьевский"},{"$f":"[1]свод!C135","v":"Муниципальное автономное общеобразовательное учреждение - \"Средняя общеобразовательная школа №10 с углубленным изучением отдельных предметов\" города Альметьевска РТ"},{"$f":"[1]свод!D135","v":"Гарифуллина "},{"$f":"[1]свод!E135","v":"Дарина"},{"$f":"[1]свод!F135","v":0},{"$f":"[1]свод!G135","v":9},{"$f":"[1]свод!H135","v":43}]
[127,{"$f":"[1]свод!B136","v":"Альметьевский"},{"$f":"[1]свод!C136","v":"Муниципальное автономное общеобразовательное учреждение \"Лицей №2\""},{"$f":"[1]свод!D136","v":"Семёнова"},{"$f":"[1]свод!E136","v":"Софья"},{"$f":"[1]свод!F136","v":"Валерьевна"},{"$f":"[1]свод!G136","v":"9Б"},{"$f":"[1]свод!H136","v":42}]
[128,{"$f":"[1]свод!B137","v":"Альметьевский"},{"$f":"[1]свод!C137","v":"Муниципальное автономное общеобразовательное учреждение \"Средняя общеобразовательная школа №17\""},{"$f":"[1]свод!D137","v":"Уткина"},{"$f":"[1]свод!E137","v":"Регина"},{"$f":"[1]свод!F137","v":"Ренадовна"},{"$f":"[1]свод!G137","v":"9а"},{"$f":"[1]свод!H137","v":40}]
[129,{"$f":"[1]свод!B138","v":"Альметьевский"},{"$f":"[1]свод!C138","v":"Муниципальное автономное общеобразовательное учреждение \"Средняя общеобразовательная школа №16\" г.Альметьевска, РТ"},{"$f":"[1]свод!D138","v":"Фатыхова"},{"$f":"[1]свод!E138","v":"Динара "},{"$f":"[1]свод!F138","v":"Радиковна"},{"$f":"[1]свод!G138","v":"9А"},{"$f":"[1]свод!H138","v":40}]
[130,{"$f":"[1]свод!B139","v":"Альметьевский"},{"$f":"[1]свод!C139","v":"МАОУ \"СОШ№7\""},{"$f":"[1]свод!D139","v":"Хлопцева"},{"$f":"[1]свод!E139","v":"Дарья"},{"$f":"[1]свод!F139","v":"Павловна"},{"$f":"[1]свод!G139","v":"9 Г"},{"$f":"[1]свод!H139","v":40}]
[131,{"$f":"[1]свод!B140","v":"Альметьевский"},{"$f":"[1]свод!C140","v":"школа10"},{"$f":"[1]свод!D140","v":"махамадкулова"},{"$f":"[1]свод!E140","v":"камилла"},{"$f":"[1]свод!F140","v":"анваровна"},{"$f":"[1]свод!G140","v":10},{"$f":"[1]свод!H140","v":0}]
[132,{"$f":"[1]свод!B141","v":"Альметьевский"},{"$f":"[1]свод!C141","v":"школа17"},{"$f":"[1]свод!D141","v":"шаяхметова"},{"$f":"[1]свод!E141","v":"Раделя"},{"$f":"[1]свод!F141","v":"Фаргатовна"},{"$f":"[1]свод!G141","v":10},{"$f":"[1]свод!H141","v":0}]
[133,{"$f":"[1]свод!B142","v":"Альметьевский"},{"$f":"[1]свод!C142","v":"лицей"},{"$f":"[1]свод!D142","v":"Мохова"},{"$f":"[1]свод!E142","v":"Юлия"},{"$f":"[1]свод!F142","v":"Андреевна"},{"$f":"[1]свод!G142","v":10},{"$f":"[1]свод!H142","v":0}]
[134,{"$f":"[1]свод!B143","v":"Альметьевский"},{"$f":"[1]свод!C143","v":"МБОУ\"Нижнемактаминская СОШ№2\""},{"$f":"[1]свод!D143","v":"Гарипова"},{"$f":"[1]свод!E143","v":"Ляйсан"},{"$f":"[1]свод!F143","v":"Сириновна"},{"$f":"[1]свод!G143","v":"10ФМ"},{"$f":"[1]свод!H143","v":54}]
[135,{"$f":"[1]свод!B144","v":"Альметьевский"},{"$f":"[1]свод!C144","v":"МБОУ \"Сирень кинская СОШ\""},{"$f":"[1]свод!D144","v":"Пучкин"},{"$f":"[1]свод!E144","v":"Никита"},{"$f":"[1]свод!F144","v":"Владимиро-вич"},{"$f":"[1]свод!G144","v":10},{"$f":"[1]свод!H144","v":51}]
[136,{"$f":"[1]свод!B145","v":"Альметьевский"},{"$f":"[1]свод!C145","v":"МБОУ \"СОШ \"25 имени 70-летия нефти Татарстана\""},{"$f":"[1]свод!D145","v":"Галиева"},{"$f":"[1]свод!E145","v":"Азалия"},{"$f":"[1]свод!F145","v":"Ильдаровна"},{"$f":"[1]свод!G145","v":"10 б"},{"$f":"[1]свод!H145","v":51}]
[137,{"$f":"[1]свод!B146","v":"Альметьевский"},{"$f":"[1]свод!C146","v":"МБОУ\"Нижнемактаминская СОШ№2\""},{"$f":"[1]свод!D146","v":"Халиков"},{"$f":"[1]свод!E146","v":"Карим"},{"$f":"[1]свод!F146","v":"Рустемович"},{"$f":"[1]свод!G146","v":"10ФМ"},{"$f":"[1]свод!H146","v":49}]
[138,{"$f":"[1]свод!B147","v":"Альметьевский"},{"$f":"[1]свод!C147","v":"МБОУ \"СОШ \"25 имени 70-летия нефти Татарстана\""},{"$f":"[1]свод!D147","v":"Шириазданова"},{"$f":"[1]свод!E147","v":"Азалия"},{"$f":"[1]свод!F147","v":"Данисовна"},{"$f":"[1]свод!G147","v":"10 а"},{"$f":"[1]свод!H147","v":49}]
[139,{"$f":"[1]свод!B148","v":"Альметьевский"},{"$f":"[1]свод!C148","v":"МАОУ \"СОШ№7\""},{"$f":"[1]свод!D148","v":"Симанова"},{"$f":"[1]свод!E148","v":"Дарья"},{"$f":"[1]свод!F148","v":"Евгеньевна"},{"$f":"[1]свод!G148","v":"10 А"},{"$f":"[1]свод!H148","v":44}]
[140,{"$f":"[1]свод!B149","v":"Альметьевский"},{"$f":"[1]свод!C149","v":"Муниципальное бюджетное общеобразовательное учреждение Средняя общеобразовательная школа № 13"},{"$f":"[1]свод!D149","v":"Чупина"},{"$f":"[1]свод!E149","v":"Анастасия"},{"$f":"[1]свод!F149","v":"Сергеевна"},{"$f":"[1]свод!G149","v":10},{"$f":"[1]свод!H149","v":44}]
[141,{"$f":"[1]свод!B150","v":"Альметьевский"},{"$f":"[1]свод!C150","v":"МБОУ \"Нижнемактаминская СОШ №1\""},{"$f":"[1]свод!D150","v":"Баязитова "},{"$f":"[1]свод!E150","v":"Алия"},{"$f":"[1]свод!F150","v":"Дамировна"},{"$f":"[1]свод!G150","v":10},{"$f":"[1]свод!H150","v":43}]
[142,{"$f":"[1]свод!B151","v":"Альметьевский"},{"$f":"[1]свод!C151","v":"Муниципальное автономное общеобразовательное учреждение \"Лицей №2\""},{"$f":"[1]свод!D151","v":"Сабирова"},{"$f":"[1]свод!E151","v":"Алина"},{"$f":"[1]свод!F151","v":" Рамилевна"},{"$f":"[1]свод!G151","v":"10Б"},{"$f":"[1]свод!H151","v":42}]
[143,{"$f":"$B$142","v":"Альметьевский"},{"$f":"[1]свод!C152","v":"МБОУ\"Нижнемактаминская СОШ№2\""},{"$f":"[1]свод!D152","v":"Баландин"},{"$f":"[1]свод!E152","v":"Кирилл"},{"$f":"[1]свод!F152","v":"Александрович"},{"$f":"[1]свод!G152","v":"10ФМ"},{"$f":"[1]свод!H152","v":41}]
[144,"Альметьевский",{"$f":"[1]свод!C153","v":"Муниципальное автономное общеобразовательное учреждение \"Средняя общеобразовательная школа №16\" г.Альметьевска, РТ"},{"$f":"[1]свод!D153","v":"Гимранова "},{"$f":"[1]свод!E153","v":"Аделия "},{"$f":"[1]свод!F153","v":"Фаритовна"},{"$f":"[1]свод!G153","v":"10Б"},{"$f":"[1]свод!H153","v":41}]
[145,"Альметьевский",{"$f":"[1]свод!C154","v":"Муниципальное бюджетное общеобразовательноеучреждение \"Средняя общеобразовательная школа №12\""},{"$f":"[1]свод!D154","v":"Дущенко "},{"$f":"[1]свод!E154","v":"Полина "},{"$f":"[1]свод!F154","v":"Александровна"},{"$f":"[1]свод!G154","v":10},{"$f":"[1]свод!H154","v":41}]
[146,"Альметьевский",{"$f":"[1]свод!C155","v":"Муниципальное бюджетное общеобразовательноеучреждение \"Средняя общеобразовательная школа №12\""},{"$f":"[1]свод!D155","v":"Осинцева"},{"$f":"[1]свод!E155","v":"Екатерина"},{"$f":"[1]свод!F155","v":"Сергеевна"},{"$f":"[1]свод!G155","v":0},{"$f":"[1]свод!H155","v":39}]
[147,"Альметьевский",{"$f":"[1]свод!C156","v":"МБОУ\"Нижнемактаминская СОШ№2\""},{"$f":"[1]свод!D156","v":"Зарипова"},{"$f":"[1]свод!E156","v":"Ляйсан"},{"$f":"[1]свод!F156","v":"АйратОВНА"},{"$f":"[1]свод!G156","v":"11ФМ"},{"$f":"[1]свод!H156","v":54}]
[148,"Альметьевский",{"$f":"[1]свод!C157","v":"МБОУ\"Нижнемактаминская СОШ№2\""},{"$f":"[1]свод!D157","v":"Суербаева"},{"$f":"[1]свод!E157","v":"Эльвина"},{"$f":"[1]свод!F157","v":"Ильсур"},{"$f":"[1]свод!G157","v":"11ФМ"},{"$f":"[1]свод!H157","v":52}]
[149,"Альметьевский",{"$f":"[1]свод!C158","v":"Муниципальное бюджетное общеобразовательное учреждение Средняя общеобразовательная школа № 13"},{"$f":"[1]свод!D158","v":"Захаров"},{"$f":"[1]свод!E158","v":"Артем"},{"$f":"[1]свод!F158","v":0},{"$f":"[1]свод!G158","v":11},{"$f":"[1]свод!H158","v":50}]
[150,"Альметьевский",{"$f":"[1]свод!C159","v":"Муниципальное бюджетное общеобразовательное учреждение Средняя общеобразовательная школа № 13"},{"$f":"[1]свод!D159","v":"Однороженко"},{"$f":"[1]свод!E159","v":"Ангелина"},{"$f":"[1]свод!F159","v":0},{"$f":"[1]свод!G159","v":11},{"$f":"[1]свод!H159","v":48}]
[151,"Альметьевский",{"$f":"[1]свод!C160","v":"МБОУ\"Нижнемактаминская СОШ №1\""},{"$f":"[1]свод!D160","v":"Сулейманова"},{"$f":"[1]свод!E160","v":"Илюза"},{"$f":"[1]свод!F160","v":"Рустамовна"},{"$f":"[1]свод!G160","v":11},{"$f":"[1]свод!H160","v":47}]
[152,"Альметьевский",{"$f":"[1]свод!C161","v":"МАОУ \"СОШ\"7\""},{"$f":"[1]свод!D161","v":"Зарипова"},{"$f":"[1]свод!E161","v":"Азалия"},{"$f":"[1]свод!F161","v":"Ильдаровна"},{"$f":"[1]свод!G161","v":"11 А"},{"$f":"[1]свод!H161","v":46}]
[153,"Альметьевский",{"$f":"[1]свод!C162","v":"Муниципальное автономное общеобразовательное учреждение \"Лицей №2\""},{"$f":"[1]свод!D162","v":"Галиуллина"},{"$f":"[1]свод!E162","v":"Диана"},{"$f":"[1]свод!F162","v":"Фердинандовна"},{"$f":"[1]свод!G162","v":"11Б"},{"$f":"[1]свод!H162","v":45}]
[154,"Альметьевский",{"$f":"[1]свод!C163","v":"МБОУ \"СОШ №4\""},{"$f":"[1]свод!D163","v":"Сунгатова"},{"$f":"[1]свод!E163","v":"Рената"},{"$f":"[1]свод!F163","v":"Дмитриевна"},{"$f":"[1]свод!G163","v":11},{"$f":"[1]свод!H163","v":43.5}]
[155,"Альметьевский",{"$f":"[1]свод!C164","v":"МБОУ \"СОШ №11\""},{"$f":"[1]свод!D164","v":"Шайхулисламова"},{"$f":"[1]свод!E164","v":"Алия"},{"$f":"[1]свод!F164","v":"Радиковна"},{"$f":"[1]свод!G164","v":11},{"$f":"[1]свод!H164","v":40}]
[156,"Альметьевский",{"$f":"[1]свод!C165","v":"МАОУ \"СОШ\"7\""},{"$f":"[1]свод!D165","v":"Шарипова"},{"$f":"[1]свод!E165","v":"Зарина"},{"$f":"[1]свод!F165","v":"Ильгизаровна"},{"$f":"[1]свод!G165","v":"11 А"},{"$f":"[1]свод!H165","v":40}]
[157,"Альметьевский",{"$f":"[1]свод!C166","v":"МАОУ ''Лицей-интернат №1''"},{"$f":"[1]свод!D166","v":"Ахметзянов"},{"$f":"[1]свод!E166","v":"Абдулла"},{"$f":"[1]свод!F166","v":"Рафисович"},{"$f":"[1]свод!G166","v":"11А"},{"$f":"[1]свод!H166","v":37}]
[158,"Альметьевский",{"$f":"'[2]6 кл'!D10","v":"Мисбахова "},{"$f":"'[2]6 кл'!E10","v":"Марьям"},{"$f":"'[2]6 кл'!F10","v":"Рустамовна"},{"$f":"'[2]6 кл'!G10","v":"6А"},{"$f":"'[2]6 кл'!H10","v":39},{"$f":"'[2]6 кл'!I10","v":"победитель"}]
[159,"Альметьевский",{"$f":"'[2]9 кл'!C13","v":"Муниципальное бюджетное общеобразовательное учреждение \"Гимназия №1 им.Р.Фахретдина\""},{"$f":"'[2]9 кл'!D13","v":"Гиниятуллина"},{"$f":"'[2]9 кл'!E13","v":"Камиля"},{"$f":"'[2]9 кл'!F13","v":"Рустамовна"},{"$f":"'[2]9 кл'!G13","v":"9В"},{"$f":"'[2]9 кл'!H13","v":34}]
[160,"Альметьевский",{"$f":"'[2]10 кл'!C11","v":"Муниципальное бюджетное общеобразовательное учреждение \"Гимназия №1 им.Р.Фахретдина\""},{"$f":"'[2]10 кл'!D11","v":"Шалямов"},{"$f":"'[2]10 кл'!E11","v":"Никита"},{"$f":"'[2]10 кл'!F11","v":"Романович"},{"$f":"'[2]10 кл'!G11","v":"10 Б"},{"$f":"'[2]10 кл'!H11","v":33}]
[161,"Альметьевский",{"$f":"'[2]10 кл'!C12","v":"Муниципальное бюджетное общеобразовательное учреждение \"Гимназия №1 им.Р.Фахретдина\""},{"$f":"'[2]10 кл'!D12","v":"Авхадиева"},{"$f":"'[2]10 кл'!E12","v":"Ляйсан"},{"$f":"'[2]10 кл'!F12","v":" Ринатовна"},{"$f":"'[2]10 кл'!G12","v":"10 А"},{"$f":"'[2]10 кл'!H12","v":33.5}]
[162,"Альметьевский",{"$f":"'[2]11 кл'!C10","v":"Муниципальное бюджетное общеобразовательное учреждение \"Гимназия №1 им.Р.Фахретдина\""},{"$f":"'[2]11 кл'!D10","v":"Галеева"},{"$f":"'[2]11 кл'!E10","v":"Лейсан"},{"$f":"'[2]11 кл'!F10","v":"Ринатовна"},{"$f":"'[2]11 кл'!G10","v":11},{"$f":"'[2]11 кл'!H10","v":34}]
[163,"Альметьевский",{"$f":"'[2]9 кл'!C12","v":"Муниципальное бюджетное общеобразовательное учреждение \"Гимназия №1 им.Р.Фахретдина\""},{"$f":"'[2]9 кл'!D12","v":"Латыпова"},{"$f":"'[2]9 кл'!E12","v":"Алина"},{"$f":"'[2]9 кл'!F12","v":"Маратовна"},{"$f":"'[2]9 кл'!G12","v":"9В"},{"$f":"'[2]9 кл'!H12","v":32}]
[164,{"$f":"$B$165","v":"Альметьевский"},{"$f":"'[2]6 кл'!C10","v":"Муниципальное бюджетное общеобразовательное учреждение \"Гимназия №1 им.Р.Фахретдина\""},{"$f":"'[2]6 кл'!D10","v":"Мисбахова "},{"$f":"'[2]6 кл'!E10","v":"Марьям"},{"$f":"'[2]6 кл'!F10","v":"Рустамовна"},{"$f":"'[2]6 кл'!G10","v":"6А"},{"$f":"'[2]6 кл'!H10","v":39}]
[165,"Альметьевский",{"$f":"'[2]9 кл'!C12","v":"Муниципальное бюджетное общеобразовательное учреждение \"Гимназия №1 им.Р.Фахретдина\""},{"$f":"'[2]9 кл'!D12","v":"Латыпова"},{"$f":"'[2]9 кл'!E12","v":"Алина"},{"$f":"'[2]9 кл'!F12","v":"Маратовна"},{"$f":"'[2]9 кл'!G12","v":"9В"},{"$f":"'[2]9 кл'!H12","v":32}]
[166,"Альметьевский",{"$f":"'[2]9 кл'!C13","v":"Муниципальное бюджетное общеобразовательное учреждение \"Гимназия №1 им.Р.Фахретдина\""},{"$f":"'[2]9 кл'!D13","v":"Гиниятуллина"},{"$f":"'[2]9 кл'!E13","v":"Камиля"},{"$f":"'[2]9 кл'!F13","v":"Рустамовна"},{"$f":"'[2]9 кл'!G13","v":"9В"},{"$f":"'[2]9 кл'!H13","v":34}]
[167,"Альметьевский",{"$f":"'[2]10 кл'!C11","v":"Муниципальное бюджетное общеобразовательное учреждение \"Гимназия №1 им.Р.Фахретдина\""},{"$f":"'[2]10 кл'!D11","v":"Шалямов"},{"$f":"'[2]10 кл'!E11","v":"Никита"},{"$f":"'[2]10 кл'!F11","v":"Романович"},{"$f":"'[2]10 кл'!G11","v":"10 Б"},{"$f":"'[2]10 кл'!H11","v":33}]
[168,"Альметьевский",{"$f":"'[2]10 кл'!C12","v":"Муниципальное бюджетное общеобразовательное учреждение \"Гимназия №1 им.Р.Фахретдина\""},{"$f":"'[2]10 кл'!D12","v":"Авхадиева"},{"$f":"'[2]10 кл'!E12","v":"Ляйсан"},{"$f":"'[2]10 кл'!F12","v":" Ринатовна"},{"$f":"'[2]10 кл'!G12","v":"10 А"},{"$f":"'[2]10 кл'!H12","v":33.5}]
[169,"Альметьевский",{"$f":"'[2]11 кл'!C9","v":"Муниципальное бюджетное общеобразовательное учреждение \"Гимназия №1 им.Р.Фахретдина\""},{"$f":"'[2]11 кл'!D9","v":"Газымова"},{"$f":"'[2]11 кл'!E9","v":"Лилия"},{"$f":"'[2]11 кл'!F9","v":"Амазовна"},{"$f":"'[2]11 кл'!G9","v":11},{"$f":"'[2]11 кл'!H9","v":33.5}]
[170,"Альметьевский",{"$f":"'[2]11 кл'!C10","v":"Муниципальное бюджетное общеобразовательное учреждение \"Гимназия №1 им.Р.Фахретдина\""},{"$f":"'[2]11 кл'!D10","v":"Галеева"},{"$f":"'[2]11 кл'!E10","v":"Лейсан"},{"$f":"'[2]11 кл'!F10","v":"Ринатовна"},{"$f":"'[2]11 кл'!G10","v":11},{"$f":"'[2]11 кл'!H10","v":34}]
[null,null,{"$f":"'[3]7 кл'!C12","v":"Муниципальное бюджетное общеобразовательное учреждение \"Средняя общеобразовательная школа №20\" г. Альметьевска Республики Татарстан"},{"$f":"'[3]7 кл'!D12","v":"Кашаприна"},{"$f":"'[3]7 кл'!E12","v":"Елизавета"},{"$f":"'[3]7 кл'!F12","v":"Александровна"},{"$f":"'[3]7 кл'!G12","v":7},{"$f":"'[3]7 кл'!H12","v":30}]
[null,null,{"$f":"'[3]7 кл'!C13","v":"Муниципальное бюджетное общеобразовательное учреждение \"Средняя общеобразовательная школа №20\" г. Альметьевска Республики Татарстан"},{"$f":"'[3]7 кл'!D13","v":"Тихонова"},{"$f":"'[3]7 кл'!E13","v":"Елизавета"},{"$f":"'[3]7 кл'!F13","v":"андреевна"},{"$f":"'[3]7 кл'!G13","v":7},{"$f":"'[3]7 кл'!H13","v":28}]
[null,null,{"$f":"'[3]9 кл'!C14","v":"Муниципальное бюджетное общеобразовательное учреждение \"Средняя общеобразовательная школа №20\" г. Альметьевска Республики Татарстан"},{"$f":"'[3]9 кл'!D14","v":"Рахматуллина"},{"$f":"'[3]9 кл'!E14","v":"Алсина"},{"$f":"'[3]9 кл'!F14","v":"Ильдаровна"},{"$f":"'[3]9 кл'!G14","v":9},{"$f":"'[3]9 кл'!H14","v":35}]
[null,null,{"$f":"'[3]9 кл'!C10","v":"Муниципальное бюджетное общеобразовательное учреждение \"Средняя общеобразовательная школа №20\" г. Альметьевска Республики Татарстан"},{"$f":"'[3]9 кл'!D10","v":"Фархутдинова"},{"$f":"'[3]9 кл'!E10","v":"Регина"},{"$f":"'[3]9 кл'!F10","v":"Фаилевна"},{"$f":"'[3]9 кл'!G10","v":9},{"$f":"'[3]9 кл'!H10","v":33}]
[null,null,{"$f":"'[3]10 кл'!C9","v":"Муниципальное бюджетное общеобразовательное учреждение \"Средняя общеобразовательная школа №20\" г. Альметьевска Республики Татарстан"},{"$f":"'[3]10 кл'!D9","v":"Леванова"},{"$f":"'[3]10 кл'!E9","v":"Анастасия"},{"$f":"'[3]10 кл'!F9","v":"Павловна"},{"$f":"'[3]10 кл'!G9","v":"10А"},{"$f":"'[3]10 кл'!H9","v":28}]
[null,null,{"$f":"'[3]11 кл'!C9","v":"Муниципальное бюджетное общеобразовательное учреждение \"Средняя общеобразовательная школа №20\" г. Альметьевска Республики Татарстан"},{"$f":"'[3]11 кл'!D9","v":"Тимофеева"},{"$f":"'[3]11 кл'!E9","v":"Яна"},{"$f":"'[3]11 кл'!F9","v":"Валерьевна"},{"$f":"'[3]11 кл'!G9","v":"11А"},{"$f":"'[3]11 кл'!H9","v":29}]
[null,null,"Муниципальное автономное общеобразовательное учреждение \"Лицей-интернат №1\" г. Альметьевска Республики Татарстан","Зарипов ","Амир","Ильдарович",9]

{"sheet":"Лист2","index":1,"n_rows":0,"n_cols":0,"rows_kept":0}

{"sheet":"Лист3","index":2,"n_rows":0,"n_cols":0,"rows_kept":0}